BEGIN:VCALENDAR
VERSION:2.0
PRODID:-//ChamberMaster//Event Calendar 2.0//EN
METHOD:PUBLISH
X-PUBLISHED-TTL:P3D
REFRESH-INTERVAL:P3D
CALSCALE:GREGORIAN
BEGIN:VEVENT
DTSTART:20171014T230000Z
DTEND:20171015T010000Z
X-MICROSOFT-CDO-ALLDAYEVENT:FALSE
SUMMARY:Music with Sax Man David Carr\, Jr. at Sugar Ridge Winery
DESCRIPTION:Sugar RIdge Winery is proud to welcome back David Carr\, Jr. Come out and listen to the Sax man perform original tunes. 6-8 bring lawn chairs and a picnic and enjoy the evening.
X-ALT-DESC;FMTTYPE=text/html:Sugar RIdge Winery is proud to welcome back David Carr\, Jr. Come out and listen to the Sax man perform original tunes. 6-8 bring lawn chairs and a picnic and enjoy the evening.
LOCATION:Sugar Ridge Winery 353 Sugar Ridge Road Ennis\, TX 75119
UID:e.2608.584
SEQUENCE:3
DTSTAMP:20260425T174916Z
URL:https://business.ennis-chamber.com/events/details/music-with-sax-man-david-carr-jr-at-sugar-ridge-winery-584
END:VEVENT

END:VCALENDAR
