BEGIN:VCALENDAR
VERSION:2.0
PRODID:-//ChamberMaster//Event Calendar 2.0//EN
METHOD:PUBLISH
X-PUBLISHED-TTL:P3D
REFRESH-INTERVAL:P3D
CALSCALE:GREGORIAN
BEGIN:VEVENT
DTSTART:20180811T230000Z
DTEND:20180812T010000Z
X-MICROSOFT-CDO-ALLDAYEVENT:FALSE
SUMMARY:Music & Wine with Kevin Curtis
DESCRIPTION:Join us for some light Jazz in the vineyard with Kevin Curtis. ASCAP approved No outside alcohol. Bring a lawn chair and picnic.
X-ALT-DESC;FMTTYPE=text/html:Join us for some light Jazz in the vineyard with Kevin Curtis. ASCAP approved No outside alcohol. Bring a lawn chair and picnic.
LOCATION:Sugar Ridge Winery 353 Sugar Ridge RD Ennis\, TX 75119
UID:e.2608.2839
SEQUENCE:3
DTSTAMP:20260424T230710Z
URL:https://business.ennis-chamber.com/events/details/music-wine-with-kevin-curtis-2839
END:VEVENT

END:VCALENDAR
