BEGIN:VCALENDAR
VERSION:2.0
PRODID:-//ChamberMaster//Event Calendar 2.0//EN
METHOD:PUBLISH
X-PUBLISHED-TTL:P3D
REFRESH-INTERVAL:P3D
CALSCALE:GREGORIAN
BEGIN:VEVENT
DTSTART:20170812T230000Z
DTEND:20170813T020000Z
X-MICROSOFT-CDO-ALLDAYEVENT:FALSE
SUMMARY:Music & Wine with Josh Jaccard
DESCRIPTION:Come out and have a glass of wine while listening to Josh Jaccard play music we all love!! ASCAP approved music only. No outside alcohol.
X-ALT-DESC;FMTTYPE=text/html:Come out and have a glass of wine while listening to Josh Jaccard play music we all love!! ASCAP approved music only. No outside alcohol.
LOCATION:323 Sugar Ridge Road Bristol (Ennis)\, TX 75119
UID:e.2608.565
SEQUENCE:3
DTSTAMP:20260425T224521Z
URL:https://business.ennis-chamber.com/events/details/music-wine-with-josh-jaccard-565
END:VEVENT

END:VCALENDAR
