BEGIN:VCALENDAR
VERSION:2.0
PRODID:-//ChamberMaster//Event Calendar 2.0//EN
METHOD:PUBLISH
X-PUBLISHED-TTL:P3D
REFRESH-INTERVAL:P3D
CALSCALE:GREGORIAN
BEGIN:VEVENT
DTSTART:20180804T230000Z
DTEND:20180805T010000Z
X-MICROSOFT-CDO-ALLDAYEVENT:FALSE
SUMMARY:Music & Wine with Dock Ballard
DESCRIPTION:Join us with a warm welcome for Dock Ballard playing old\,new and a little of everything with a glass of wine. Bring a lawn chair come sit and enjoy the spring time. ASCAP approved music NO Outside Alcohol
X-ALT-DESC;FMTTYPE=text/html:Join us with a warm welcome for Dock Ballard playing old\,new and a little of everything with a glass of wine. Bring a lawn chair come sit and enjoy the spring time. ASCAP approved music NO Outside Alcohol
LOCATION:Sugar Ridge Winery 353 Sugar Ridge Rd Ennis\, TX 75119 ( Bristol)
UID:e.2608.2838
SEQUENCE:3
DTSTAMP:20260425T010253Z
URL:https://business.ennis-chamber.com/events/details/music-wine-with-dock-ballard-2838
END:VEVENT

END:VCALENDAR
