BEGIN:VCALENDAR
VERSION:2.0
PRODID:-//ChamberMaster//Event Calendar 2.0//EN
METHOD:PUBLISH
X-PUBLISHED-TTL:P3D
REFRESH-INTERVAL:P3D
CALSCALE:GREGORIAN
BEGIN:VEVENT
DTSTART:20170923T230000Z
DTEND:20170924T010000Z
X-MICROSOFT-CDO-ALLDAYEVENT:FALSE
SUMMARY:Music & Wine with Canaan Mulinax
DESCRIPTION:9/23/2017\n			Music & Wine with Canaan Mulinax\n		\n		\n			Join us for an evening of Music & Wine with Canaan Mulinax 6-8 pm. ASCAP approved music only! No outside alcohol allowed per TABC
X-ALT-DESC;FMTTYPE=text/html:<table cellpadding="3" cellspacing="5" width="50%">\n	<tbody>\n		<tr align="left" valign="middle">\n			<td nowrap="nowrap"><b><font face="Arial\, Helvetica\, sans-serif" size="3">9/23/2017</font></b></td>\n			<td nowrap="nowrap"><b><font face="Arial\, Helvetica\, sans-serif" size="3">Music &amp\; Wine with Canaan Mulinax</font></b></td>\n		</tr>\n		<tr align="left" valign="top">\n			<td colspan="2"><font face="Arial\, Helvetica\, sans-serif" size="3">Join us for an evening of Music &amp\; Wine with Canaan Mulinax 6-8 pm. ASCAP approved music only! No outside alcohol allowed per TABC</font></td>\n		</tr>\n	</tbody>\n</table>\n
LOCATION:Sugar Ridge Winery 353 Sugar Ridge Road Ennis\, TX 75119
UID:e.2608.581
SEQUENCE:3
DTSTAMP:20260425T192759Z
URL:https://business.ennis-chamber.com/events/details/music-wine-with-canaan-mulinax-581
END:VEVENT

END:VCALENDAR
