BEGIN:VCALENDAR
VERSION:2.0
PRODID:-//ChamberMaster//Event Calendar 2.0//EN
METHOD:PUBLISH
X-PUBLISHED-TTL:P3D
REFRESH-INTERVAL:P3D
CALSCALE:GREGORIAN
BEGIN:VEVENT
DTSTART:20171007T230000Z
DTEND:20171008T010000Z
X-MICROSOFT-CDO-ALLDAYEVENT:FALSE
SUMMARY:Music and Wine with Josh Jacarrd @ Sugar Ridge Winery
DESCRIPTION:Join us for an evening with Josh Jacarrd. 6-8 ASCAP approved music! No outside alcohol per TABC!
X-ALT-DESC;FMTTYPE=text/html:Join us for an evening with Josh Jacarrd. 6-8 ASCAP approved music! No outside alcohol per TABC!
LOCATION:Sugar Ridge Winery 353 Sugar Ridge Road Ennis\, TX 75119
UID:e.2608.583
SEQUENCE:3
DTSTAMP:20260425T174740Z
URL:https://business.ennis-chamber.com/events/details/music-and-wine-with-josh-jacarrd-sugar-ridge-winery-583
END:VEVENT

END:VCALENDAR
