BEGIN:VCALENDAR
VERSION:2.0
PRODID:-//ChamberMaster//Event Calendar 2.0//EN
METHOD:PUBLISH
X-PUBLISHED-TTL:P3D
REFRESH-INTERVAL:P3D
CALSCALE:GREGORIAN
BEGIN:VEVENT
DTSTART:20170520T230000Z
DTEND:20170521T010000Z
X-MICROSOFT-CDO-ALLDAYEVENT:FALSE
SUMMARY:Music and Wine with Almost Famous
DESCRIPTION:Come out and Rock the night away Almost Famous 6-8 Saturday evening. Bring a lawn chair and enjoy the great evening. ASCAP Approved music only. No outside alcohol.
X-ALT-DESC;FMTTYPE=text/html:Come out and Rock the night away Almost Famous 6-8 Saturday evening. Bring a lawn chair and enjoy the great evening. ASCAP Approved music only. No outside alcohol.
LOCATION:353 Sugar Ridge RD Ennis\, TX 75119 (Bristol)
UID:e.2608.286
SEQUENCE:3
DTSTAMP:20260426T022527Z
URL:https://business.ennis-chamber.com/events/details/music-and-wine-with-almost-famous-286
END:VEVENT

END:VCALENDAR
