BEGIN:VCALENDAR
VERSION:2.0
PRODID:-//ChamberMaster//Event Calendar 2.0//EN
METHOD:PUBLISH
X-PUBLISHED-TTL:P3D
REFRESH-INTERVAL:P3D
CALSCALE:GREGORIAN
BEGIN:VEVENT
DTSTART:20190713T133000Z
DTEND:20190713T200000Z
X-MICROSOFT-CDO-ALLDAYEVENT:FALSE
SUMMARY:Mobile Mammogram Screening Event
DESCRIPTION:Free cancer screenings brought to you by Moncrief Cancer Institute's Mobile Clinic   Free for women without insurance and those who qualify\; most major insurance plans also accepted.   Mammograms for women 40 and older   Must be at least 1 year since your last mammogram Call 800.405.7739 to schedule your appointment.
X-ALT-DESC;FMTTYPE=text/html:Free cancer screenings brought to you by Moncrief Cancer Institute&#39\;s Mobile Clinic &bull\; Free for women without insurance and those who qualify\; most major insurance plans also accepted. &bull\; Mammograms for women 40 and older &bull\; Must be at least 1 year since your last mammogram Call 800.405.7739 to schedule your appointment.
LOCATION:Frank Kent Ennis\, 305 South I-45\, Ennis\, TX 75119
UID:e.2608.2932
SEQUENCE:3
DTSTAMP:20260424T003510Z
URL:https://business.ennis-chamber.com/events/details/mobile-mammogram-screening-event-2932
END:VEVENT

END:VCALENDAR
