BEGIN:VCALENDAR
VERSION:2.0
PRODID:-//ChamberMaster//Event Calendar 2.0//EN
METHOD:PUBLISH
X-PUBLISHED-TTL:P3D
REFRESH-INTERVAL:P3D
CALSCALE:GREGORIAN
BEGIN:VEVENT
DTSTART:20191119T200000Z
DTEND:20191119T210000Z
X-MICROSOFT-CDO-ALLDAYEVENT:FALSE
SUMMARY:Merle Norman Cosmetics & Boutique Ribbon Cutting
DESCRIPTION:Ribbon Cutting
X-ALT-DESC;FMTTYPE=text/html:Ribbon Cutting&nbsp\;
LOCATION:Merle Norman Cosmetics & Boutique 108 W. Ennis Ave Ennis\, TX 75119
UID:e.2608.3222
SEQUENCE:3
DTSTAMP:20260423T172315Z
URL:https://business.ennis-chamber.com/events/details/merle-norman-cosmetics-boutique-ribbon-cutting-3222
END:VEVENT

END:VCALENDAR
