BEGIN:VCALENDAR
VERSION:2.0
PRODID:-//ChamberMaster//Event Calendar 2.0//EN
METHOD:PUBLISH
X-PUBLISHED-TTL:P3D
REFRESH-INTERVAL:P3D
CALSCALE:GREGORIAN
BEGIN:VEVENT
DTSTART:20190507T150000Z
DTEND:20190507T170000Z
X-MICROSOFT-CDO-ALLDAYEVENT:FALSE
SUMMARY:Meet & Greet - Andy Nguyen/District Director to Congressman Ron Wright
DESCRIPTION:Meet & Greet - Andy Nguyen\n\nDistrict Director to\n\nCongressman Ron Wright
X-ALT-DESC;FMTTYPE=text/html:Meet &amp\; Greet - Andy Nguyen<br />\nDistrict Director to<br />\nCongressman Ron Wright
LOCATION:Ennis Chamber of Commerce 108 Chamber of Commerce Dr. Ennis\, TX 75119
UID:e.2608.2917
SEQUENCE:3
DTSTAMP:20260424T052851Z
URL:https://business.ennis-chamber.com/events/details/meet-greet-andy-nguyen-district-director-to-congressman-ron-wright-2917
END:VEVENT

END:VCALENDAR
