BEGIN:VCALENDAR
VERSION:2.0
PRODID:-//ChamberMaster//Event Calendar 2.0//EN
METHOD:PUBLISH
X-PUBLISHED-TTL:P3D
REFRESH-INTERVAL:P3D
CALSCALE:GREGORIAN
BEGIN:VEVENT
DTSTART:20190219T233000Z
DTEND:20190220T003000Z
X-MICROSOFT-CDO-ALLDAYEVENT:FALSE
SUMMARY:Meet & Greet
DESCRIPTION:Meet & Greet - Business After Hours\n\nIntroducing our North Texas Employer Health Plan Cooperative Agents:\n\nRodney Bell - Bell Insurance Agency\n\nTerry Connor - Connor & Associates\, Inc.
X-ALT-DESC;FMTTYPE=text/html:<em><strong>Meet &amp\; Greet - Business After Hours</strong></em><br />\nIntroducing our North Texas Employer Health Plan Cooperative Agents:<br />\nRodney Bell - Bell Insurance Agency<br />\nTerry Connor - Connor &amp\; Associates\, Inc.&nbsp\;
LOCATION:Ennis Chamber of Commerce 108 Chamber of Commerce Dr. Ennis\, TX 75119
UID:e.2608.2875
SEQUENCE:3
DTSTAMP:20260424T122454Z
URL:https://business.ennis-chamber.com/events/details/meet-greet-2875
END:VEVENT

END:VCALENDAR
