BEGIN:VCALENDAR
VERSION:2.0
PRODID:-//ChamberMaster//Event Calendar 2.0//EN
METHOD:PUBLISH
X-PUBLISHED-TTL:P3D
REFRESH-INTERVAL:P3D
CALSCALE:GREGORIAN
BEGIN:VEVENT
DTSTART:20180913T120000Z
DTEND:20180914T000000Z
X-MICROSOFT-CDO-ALLDAYEVENT:FALSE
SUMMARY:Meals on Wheels Annual Golf Benefit
DESCRIPTION:Meals on Wheels Golf Benefit: We are still accepting sponsorships through the Double Eagle level\, which will provide meals for seniors in Johnson and Ellis counties.
X-ALT-DESC;FMTTYPE=text/html:Meals on Wheels Golf Benefit: We are still accepting sponsorships through the Double Eagle level\, which will provide meals for seniors in Johnson and Ellis counties.
LOCATION:Cleburne Golf Links
UID:e.2608.2840
SEQUENCE:3
DTSTAMP:20260424T211725Z
URL:https://business.ennis-chamber.com/events/details/meals-on-wheels-annual-golf-benefit-2840
END:VEVENT

END:VCALENDAR
