BEGIN:VCALENDAR
VERSION:2.0
PRODID:-//ChamberMaster//Event Calendar 2.0//EN
METHOD:PUBLISH
X-PUBLISHED-TTL:P3D
REFRESH-INTERVAL:P3D
CALSCALE:GREGORIAN
BEGIN:VEVENT
DTSTART:20250128T233000Z
DTEND:20250129T011500Z
X-MICROSOFT-CDO-ALLDAYEVENT:FALSE
SUMMARY:Mayor's Address to the Ennis Business Community & Awards Event
DESCRIPTION:Join us for city & county updates from:\n\n\n\nMayor Kameron Raburn\, Interim City Manager Dustin Munn\, Ennis Economic Development Corporation Board President Julie Pierce\, Ellis County Judge Todd Little\, and Ellis County Sheriff Brad Norman.\n\n\n\nBusiness of the Year Awards\n\n\n	Business of the Year (Non-Profit)\n	Business of the Year (Under 15 Employees)\n	Business of the Year (Over 15 Employees)\n\n For more information call: 972-878-2625 or e mail to: jennifer@ennis-chamber.com
X-ALT-DESC;FMTTYPE=text/html:<strong><span style="font-family:comic sans ms\;"><span style="font-size:20px\;"><span style="font-size:18px\;"><span style="font-size:22px\;">Join us for city &amp\; county updates from:</span></span></span></span></strong><br />\n<br />\n<span style="font-family:comic sans ms\;"><span style="font-size:14px\;"><span style="font-size:18px\;">Mayor Kameron Raburn\, Interim City Manager Dustin Munn\, Ennis Economic Development Corporation Board President Julie Pierce\, Ellis County Judge Todd Little\, and Ellis County Sheriff Brad Norman.</span><br />\n<br />\n<strong><span style="font-size:22px\;">Business of the Year Awards</span></strong></span></span>\n\n<ul>\n	<li><span style="font-size:18px\;"><span style="font-family:comic sans ms\;">Business of the Year (Non-Profit)</span></span></li>\n	<li><span style="font-size:18px\;"><span style="font-family:comic sans ms\;">Business of the Year (Under 15 Employees)</span></span></li>\n	<li><span style="font-size:18px\;"><span style="font-family:comic sans ms\;">Business of the Year (Over 15 Employees)</span></span></li>\n</ul>\n<span style="font-size:18px\;"> </span><span style="font-size:20px\;"><span style="font-family:comic sans ms\;">For more information call: 972-878-2625 or e mail to: jennifer@ennis-chamber.com</span></span><br />\n&nbsp\;
LOCATION:Ennis Welcome Center\, Bluebonnet Room 201 NW Main St. Ennis\, TX 75119
UID:e.2608.3510
SEQUENCE:3
DTSTAMP:20260419T123848Z
URL:https://business.ennis-chamber.com/events/details/mayor-s-address-to-the-ennis-business-community-awards-event-3510
END:VEVENT

END:VCALENDAR
