BEGIN:VCALENDAR
VERSION:2.0
PRODID:-//ChamberMaster//Event Calendar 2.0//EN
METHOD:PUBLISH
X-PUBLISHED-TTL:P3D
REFRESH-INTERVAL:P3D
CALSCALE:GREGORIAN
BEGIN:VEVENT
DTSTART:20190309T170000Z
DTEND:20190309T190000Z
X-MICROSOFT-CDO-ALLDAYEVENT:FALSE
SUMMARY:Maverick Metal Trading\, Inc. - Customer Appreciation Day
DESCRIPTION:Customer Appreciation Day\n\nMaverick Metal Trading\, Inc.
X-ALT-DESC;FMTTYPE=text/html:Customer Appreciation Day<br />\nMaverick Metal Trading\, Inc.&nbsp\;
LOCATION:2402 S. Kaufman St. Ennis\, TX 75119
UID:e.2608.2883
SEQUENCE:3
DTSTAMP:20260424T123407Z
URL:https://business.ennis-chamber.com/events/details/maverick-metal-trading-inc-customer-appreciation-day-2883
END:VEVENT

END:VCALENDAR
