BEGIN:VCALENDAR
VERSION:2.0
PRODID:-//ChamberMaster//Event Calendar 2.0//EN
METHOD:PUBLISH
X-PUBLISHED-TTL:P3D
REFRESH-INTERVAL:P3D
CALSCALE:GREGORIAN
BEGIN:VEVENT
DTSTART:20200111T200000Z
DTEND:20200111T210000Z
X-MICROSOFT-CDO-ALLDAYEVENT:FALSE
SUMMARY:Masterpiece Home Inspirations\, LLC
DESCRIPTION:Ribbon Cutting & Grand Opening
X-ALT-DESC;FMTTYPE=text/html:Ribbon Cutting &amp\; Grand Opening
LOCATION:Masterpiece Home Inspirations\, LLC 201 S. Dallas St. Ennis\, Texas 75119
UID:e.2608.3239
SEQUENCE:3
DTSTAMP:20260423T151552Z
URL:https://business.ennis-chamber.com/events/details/masterpiece-home-inspirations-llc-3239
END:VEVENT

END:VCALENDAR
