BEGIN:VCALENDAR
VERSION:2.0
PRODID:-//ChamberMaster//Event Calendar 2.0//EN
METHOD:PUBLISH
X-PUBLISHED-TTL:P3D
REFRESH-INTERVAL:P3D
CALSCALE:GREGORIAN
BEGIN:VEVENT
DTSTART:20191102T223000Z
DTEND:20191103T044500Z
X-MICROSOFT-CDO-ALLDAYEVENT:FALSE
SUMMARY:Marine Corps Birthday Ball
DESCRIPTION:
X-ALT-DESC;FMTTYPE=text/html:
LOCATION:Texas Motorplex
UID:e.2608.2958
SEQUENCE:3
DTSTAMP:20260423T171950Z
URL:https://business.ennis-chamber.com/events/details/marine-corps-birthday-ball-2958
END:VEVENT

END:VCALENDAR
