BEGIN:VCALENDAR
VERSION:2.0
PRODID:-//ChamberMaster//Event Calendar 2.0//EN
METHOD:PUBLISH
X-PUBLISHED-TTL:P3D
REFRESH-INTERVAL:P3D
CALSCALE:GREGORIAN
BEGIN:VEVENT
DTSTART:20171130T230000Z
DTEND:20171201T030000Z
X-MICROSOFT-CDO-ALLDAYEVENT:FALSE
SUMMARY:Lights of Ennis Parade & Block Party
DESCRIPTION:Join us Downtown for a fantastic holiday event! An evening filled with a lighted parade\, free children's activities\, store-front inspired events\, live music and performances\, plenty of photo ops\, and free open house at the Ennis Railroad and Cultural Heritage Museum (5-9) featuring cocoa\, cookies\, and a photo op with Santa! \n\nParade starts at 7:00 pm and all other activities will be stopped during the parade.
X-ALT-DESC;FMTTYPE=text/html:<p><span style="color: rgb(102\, 102\, 102)\; font-family: Hind\; font-size: 14px\;">Join us Downtown for a fantastic holiday event! An evening filled with a lighted parade\, free children&rsquo\;s activities\, store-front inspired events\, live music and performances\, plenty of photo ops\, and free open house at the Ennis Railroad and Cultural Heritage Museum (5-9) featuring cocoa\, cookies\, and a photo op with Santa!&nbsp\;</span></p>\n\n<p><span style="color: rgb(102\, 102\, 102)\; font-family: Hind\; font-size: 14px\;">Parade starts at 7:00 pm and all other activities will be stopped during the parade.</span></p>\n
LOCATION:Downtown Ennis
UID:e.2608.650
SEQUENCE:3
DTSTAMP:20260425T154534Z
URL:https://business.ennis-chamber.com/events/details/lights-of-ennis-parade-block-party-650
END:VEVENT

END:VCALENDAR
