BEGIN:VCALENDAR
VERSION:2.0
PRODID:-//ChamberMaster//Event Calendar 2.0//EN
METHOD:PUBLISH
X-PUBLISHED-TTL:P3D
REFRESH-INTERVAL:P3D
CALSCALE:GREGORIAN
BEGIN:VEVENT
DTSTART:20191205T230000Z
DTEND:20191206T020000Z
X-MICROSOFT-CDO-ALLDAYEVENT:FALSE
SUMMARY:Lights of Ennis Parade and Block Party
DESCRIPTION:
X-ALT-DESC;FMTTYPE=text/html:
LOCATION:
UID:e.2608.2944
SEQUENCE:3
DTSTAMP:20260423T154452Z
URL:https://business.ennis-chamber.com/events/details/lights-of-ennis-parade-and-block-party-2944
END:VEVENT

END:VCALENDAR
