BEGIN:VCALENDAR
VERSION:2.0
PRODID:-//ChamberMaster//Event Calendar 2.0//EN
METHOD:PUBLISH
X-PUBLISHED-TTL:P3D
REFRESH-INTERVAL:P3D
CALSCALE:GREGORIAN
BEGIN:VEVENT
DTSTART;VALUE=DATE:20190601
DTEND;VALUE=DATE:20190602
TRANSP:TRANSPARENT
X-MICROSOFT-CDO-ALLDAYEVENT:TRUE
SUMMARY:KJT Charity Golf Scramble
DESCRIPTION:KJT Charity Golf Scramble
X-ALT-DESC;FMTTYPE=text/html:KJT Charity Golf Scramble<br />\n&nbsp\;
LOCATION:Old Brickyard Golf Course 605 North Interstate 45 Ferris\, TX 75125
UID:e.2608.2908
SEQUENCE:3
DTSTAMP:20260424T030147Z
URL:https://business.ennis-chamber.com/events/details/kjt-charity-golf-scramble-2908
END:VEVENT

END:VCALENDAR
