BEGIN:VCALENDAR
VERSION:2.0
PRODID:-//ChamberMaster//Event Calendar 2.0//EN
METHOD:PUBLISH
X-PUBLISHED-TTL:P3D
REFRESH-INTERVAL:P3D
CALSCALE:GREGORIAN
BEGIN:VEVENT
DTSTART:20191011T230000Z
DTEND:20191012T013000Z
X-MICROSOFT-CDO-ALLDAYEVENT:FALSE
SUMMARY:Kidz Night Out
DESCRIPTION:
X-ALT-DESC;FMTTYPE=text/html:
LOCATION:
UID:e.2608.3208
SEQUENCE:3
DTSTAMP:20260423T185755Z
URL:https://business.ennis-chamber.com/events/details/kidz-night-out-3208
END:VEVENT

END:VCALENDAR
