BEGIN:VCALENDAR
VERSION:2.0
PRODID:-//ChamberMaster//Event Calendar 2.0//EN
METHOD:PUBLISH
X-PUBLISHED-TTL:P3D
REFRESH-INTERVAL:P3D
CALSCALE:GREGORIAN
BEGIN:VEVENT
DTSTART:20190503T230000Z
DTEND:20190504T013000Z
X-MICROSOFT-CDO-ALLDAYEVENT:FALSE
SUMMARY:Kidz Night Out
DESCRIPTION:Bricks 4 Kidz\n\nKidz Night Out\n\nAges: 4-12
X-ALT-DESC;FMTTYPE=text/html:Bricks 4 Kidz<br />\nKidz Night Out<br />\nAges: 4-12
LOCATION:First United Methodist Church Red Oak
UID:e.2608.2909
SEQUENCE:3
DTSTAMP:20260424T052035Z
URL:https://business.ennis-chamber.com/events/details/kidz-night-out-2909
END:VEVENT

END:VCALENDAR
