BEGIN:VCALENDAR
VERSION:2.0
PRODID:-//ChamberMaster//Event Calendar 2.0//EN
METHOD:PUBLISH
X-PUBLISHED-TTL:P3D
REFRESH-INTERVAL:P3D
CALSCALE:GREGORIAN
BEGIN:VEVENT
DTSTART:20170719T150000Z
DTEND:20170719T160000Z
X-MICROSOFT-CDO-ALLDAYEVENT:FALSE
SUMMARY:Kid Craft @ Kindred Soule
DESCRIPTION:July 19 - Make Your Own Magnets\n\n$ 7.00  \n\n\nCreate magnets with Perler beads on a peg board!  Add them to your fridge for some fun!\n\nAges 6-12\n\nWednesday\, July 19th from 10am-11am\n\nParticipants must pre-register and pay.  Also\, all participants must be accompanied by an adult.
X-ALT-DESC;FMTTYPE=text/html:<h1 class="product_name" itemprop="name">July 19 - Make Your Own Magnets</h1>\n\n<p class="modal_price" itemprop="offers" itemscope="" itemtype="http://schema.org/Offer"><meta content="USD" itemprop="priceCurrency"><meta content="Kindred Soule Marketplace" itemprop="seller"><meta content="New" itemprop="itemCondition"><span content="7.00" itemprop="price"><span class="current_price "><span class="money">$ 7.00</span> </span> </span></p>\n\n<div class="description" itemprop="description">\n<p>Create magnets with Perler beads on a peg board!&nbsp\; Add them to your fridge for some fun!</p>\n\n<p>Ages 6-12</p>\n\n<p>Wednesday\, July 19th from 10am-11am</p>\n\n<p>Participants must pre-register and pay.&nbsp\; Also\, all participants must be accompanied by an adult.</p>\n</div>\n
LOCATION:Kindred Soule 200 W. Knox Street\, Suite 100 Ennis\, TX 75119
UID:e.2608.512
SEQUENCE:3
DTSTAMP:20260426T001855Z
URL:https://business.ennis-chamber.com/events/details/kid-craft-kindred-soule-512
END:VEVENT

END:VCALENDAR
