BEGIN:VCALENDAR
VERSION:2.0
PRODID:-//ChamberMaster//Event Calendar 2.0//EN
METHOD:PUBLISH
X-PUBLISHED-TTL:P3D
REFRESH-INTERVAL:P3D
CALSCALE:GREGORIAN
BEGIN:VEVENT
DTSTART:20190323T150000Z
DTEND:20190323T170000Z
X-MICROSOFT-CDO-ALLDAYEVENT:FALSE
SUMMARY:Keep Ennis Beautiful Board Ribbon Cutting
DESCRIPTION:Keep Ennis Beautiful Ribbon Cutting
X-ALT-DESC;FMTTYPE=text/html:Keep Ennis Beautiful Ribbon Cutting
LOCATION:Minnie McDowal Park 119 N. Dallas St. Ennis\, Texas 75119
UID:e.2608.2876
SEQUENCE:3
DTSTAMP:20260424T101000Z
URL:https://business.ennis-chamber.com/events/details/keep-ennis-beautiful-board-ribbon-cutting-2876
END:VEVENT

END:VCALENDAR
