BEGIN:VCALENDAR
VERSION:2.0
PRODID:-//ChamberMaster//Event Calendar 2.0//EN
METHOD:PUBLISH
X-PUBLISHED-TTL:P3D
REFRESH-INTERVAL:P3D
CALSCALE:GREGORIAN
BEGIN:VEVENT
DTSTART:20170609T140000Z
DTEND:20170609T170000Z
X-MICROSOFT-CDO-ALLDAYEVENT:FALSE
SUMMARY:Introduction to equine assisted counseling workshop
DESCRIPTION:Experience a broad introduction to equine assisted counseling in an outdoor setting\, using a combination of direct teaching\, discussion and experiential work with the horses. Learn sound principles in building connected relationships with the horse that can be applied to human relationships.
X-ALT-DESC;FMTTYPE=text/html:Experience a broad introduction to equine assisted counseling in an outdoor setting\, using a combination of direct teaching\, discussion and experiential work with the horses. Learn sound principles in building connected relationships with the horse that can be applied to human relationships.
LOCATION:1403 Old Bardwell Road Ennis\, TX 75119
UID:e.2608.291
SEQUENCE:3
DTSTAMP:20260426T021853Z
URL:https://business.ennis-chamber.com/events/details/introduction-to-equine-assisted-counseling-workshop-291
END:VEVENT

END:VCALENDAR
