BEGIN:VCALENDAR
VERSION:2.0
PRODID:-//ChamberMaster//Event Calendar 2.0//EN
METHOD:PUBLISH
X-PUBLISHED-TTL:P3D
REFRESH-INTERVAL:P3D
CALSCALE:GREGORIAN
BEGIN:VEVENT
DTSTART:20191107T160000Z
DTEND:20191108T010000Z
X-MICROSOFT-CDO-ALLDAYEVENT:FALSE
SUMMARY:Interior Ideas Holiday Open House
DESCRIPTION:Holiday Open House
X-ALT-DESC;FMTTYPE=text/html:Holiday Open House
LOCATION:Interior Ideas 211 W. Knox St. Ennis\, TX 75119
UID:e.2608.3221
SEQUENCE:3
DTSTAMP:20260423T171744Z
URL:https://business.ennis-chamber.com/events/details/interior-ideas-holiday-open-house-3221
END:VEVENT

END:VCALENDAR
