BEGIN:VCALENDAR
VERSION:2.0
PRODID:-//ChamberMaster//Event Calendar 2.0//EN
METHOD:PUBLISH
X-PUBLISHED-TTL:P3D
REFRESH-INTERVAL:P3D
CALSCALE:GREGORIAN
BEGIN:VEVENT
DTSTART:20190608T140000Z
DTEND:20190608T210000Z
X-MICROSOFT-CDO-ALLDAYEVENT:FALSE
SUMMARY:Horsemanship Clinic with Amy Andresen
DESCRIPTION:Horsemanship Clinic\n\nWith Amy Andresen\n\nBenefitting Runnin' Free Ranch
X-ALT-DESC;FMTTYPE=text/html:Horsemanship Clinic<br />\nWith Amy Andresen<br />\nBenefitting Runnin&#39\; Free Ranch
LOCATION:Lynch Arena 3402 W Lake Bardwell Dr Ennis\, TX 75119
UID:e.2608.2912
SEQUENCE:3
DTSTAMP:20260424T031812Z
URL:https://business.ennis-chamber.com/events/details/horsemanship-clinic-with-amy-andresen-2912
END:VEVENT

END:VCALENDAR
