BEGIN:VCALENDAR
VERSION:2.0
PRODID:-//ChamberMaster//Event Calendar 2.0//EN
METHOD:PUBLISH
X-PUBLISHED-TTL:P3D
REFRESH-INTERVAL:P3D
CALSCALE:GREGORIAN
BEGIN:VEVENT
DTSTART:20180609T140000Z
DTEND:20180609T170000Z
X-MICROSOFT-CDO-ALLDAYEVENT:FALSE
SUMMARY:Hope for Tomorrow
DESCRIPTION:Join us for an inspirational and informational morning as we shed some light on the mystery of Alzheimer's disease\, and the challenges that surround being a caregiver.
X-ALT-DESC;FMTTYPE=text/html:Join us for an inspirational and informational morning as we shed some light on the mystery of Alzheimer&#39\;s disease\, and the challenges that surround being a caregiver.
LOCATION:First United Methodist Church\, Ennis
UID:e.2608.1804
SEQUENCE:3
DTSTAMP:20260425T025043Z
URL:https://business.ennis-chamber.com/events/details/hope-for-tomorrow-1804
END:VEVENT

END:VCALENDAR
