BEGIN:VCALENDAR
VERSION:2.0
PRODID:-//ChamberMaster//Event Calendar 2.0//EN
METHOD:PUBLISH
X-PUBLISHED-TTL:P3D
REFRESH-INTERVAL:P3D
CALSCALE:GREGORIAN
BEGIN:VEVENT
DTSTART:20190713T140000Z
DTEND:20190713T210000Z
X-MICROSOFT-CDO-ALLDAYEVENT:FALSE
SUMMARY:Hometown Nutrition Ennis Grand Opening/Ribbon Cutting
DESCRIPTION:Hometown Nutrition Grand Opening/Ribbon Cutting
X-ALT-DESC;FMTTYPE=text/html:Hometown Nutrition Grand Opening/Ribbon Cutting&nbsp\;
LOCATION:100 NE Main Street Ennis\, TX 75119
UID:e.2608.2935
SEQUENCE:3
DTSTAMP:20260424T004038Z
URL:https://business.ennis-chamber.com/events/details/hometown-nutrition-ennis-grand-opening-ribbon-cutting-2935
END:VEVENT

END:VCALENDAR
