BEGIN:VCALENDAR
VERSION:2.0
PRODID:-//ChamberMaster//Event Calendar 2.0//EN
METHOD:PUBLISH
X-PUBLISHED-TTL:P3D
REFRESH-INTERVAL:P3D
CALSCALE:GREGORIAN
BEGIN:VEVENT
DTSTART:20200201T200000Z
DTEND:20200201T210000Z
X-MICROSOFT-CDO-ALLDAYEVENT:FALSE
SUMMARY:Homefeathers & Co. Ribbon Cutting
DESCRIPTION:Ribbon Cutting
X-ALT-DESC;FMTTYPE=text/html:Ribbon Cutting&nbsp\;&nbsp\;&nbsp\;&nbsp\;
LOCATION:Homefeathers & Co. 213 W. Ennis Avenue Suite300 Ennis\, Tx 75119
UID:e.2608.3240
SEQUENCE:3
DTSTAMP:20260423T114536Z
URL:https://business.ennis-chamber.com/events/details/homefeathers-co-ribbon-cutting-3240
END:VEVENT

END:VCALENDAR
