BEGIN:VCALENDAR
VERSION:2.0
PRODID:-//ChamberMaster//Event Calendar 2.0//EN
METHOD:PUBLISH
X-PUBLISHED-TTL:P3D
REFRESH-INTERVAL:P3D
CALSCALE:GREGORIAN
BEGIN:VEVENT
DTSTART:20190318T223000Z
DTEND:20190318T233000Z
X-MICROSOFT-CDO-ALLDAYEVENT:FALSE
SUMMARY:Home Grown Market Ribbon Cutting & Business After Hours
DESCRIPTION:Ribbon Cutting Ceremony
X-ALT-DESC;FMTTYPE=text/html:Ribbon Cutting Ceremony
LOCATION:101 South Dallas Street Suite 100 Ennis\, TX 75119 (Located inside the Emporium Building)
UID:e.2608.2877
SEQUENCE:3
DTSTAMP:20260424T101801Z
URL:https://business.ennis-chamber.com/events/details/home-grown-market-ribbon-cutting-business-after-hours-2877
END:VEVENT

END:VCALENDAR
