BEGIN:VCALENDAR
VERSION:2.0
PRODID:-//ChamberMaster//Event Calendar 2.0//EN
METHOD:PUBLISH
X-PUBLISHED-TTL:P3D
REFRESH-INTERVAL:P3D
CALSCALE:GREGORIAN
BEGIN:VEVENT
DTSTART;VALUE=DATE:20171216
DTEND;VALUE=DATE:20171217
TRANSP:TRANSPARENT
X-MICROSOFT-CDO-ALLDAYEVENT:TRUE
SUMMARY:Holiday Carriage and Wagon Rides
DESCRIPTION:Experience the holiday magic in Ennis\, Texas from the wonderful perspective of a horse drawn carriage or wagon through the charming\, tree-lined historic neighborhoods. Rides will depart from 302 N. Dallas St. where you can enjoy the three lit mega trees and will end at the gorgeous Minnie McDowal Park where you can enjoy music and magical snowfall\, sponsored by Ennis Regional Medical Center.\n\nPlease arrive 10 minutes prior to your departure time and present your eventbrite tickets to the carriage operator.\n\nNote: Carriages hold 4 people and the wagon holds 20 people. You will be riding with other families unless you book all of the tickets per ride.\n\nThank you to First State Bank for sponsoring the carriage and wagon rides the evening of December 2nd.
X-ALT-DESC;FMTTYPE=text/html:<p benton="" helvetica="" style="margin: 0px\; padding: 0px\; color: rgb(102\, 106\, 115)\; font-family: \;">Experience the holiday magic in Ennis\, Texas from the wonderful perspective of a horse drawn carriage or wagon through the charming\, tree-lined historic neighborhoods. Rides will depart from 302 N. Dallas St. where you can enjoy the three lit mega trees and will end at the gorgeous Minnie McDowal Park where you can enjoy music and magical snowfall\, sponsored by Ennis Regional Medical Center.</p>\n\n<p benton="" helvetica="" style="margin: 0px\; padding: 10px 0px 0px\; color: rgb(102\, 106\, 115)\; font-family: \;">Please arrive 10 minutes prior to your departure time and present your eventbrite tickets to the carriage operator.</p>\n\n<p benton="" helvetica="" style="margin: 0px\; padding: 10px 0px 0px\; color: rgb(102\, 106\, 115)\; font-family: \;">Note: Carriages hold 4 people and the wagon holds 20 people. You will be riding with other families unless you book all of the tickets per ride.</p>\n\n<p benton="" helvetica="" style="margin: 0px\; padding: 10px 0px 0px\; color: rgb(102\, 106\, 115)\; font-family: \;">Thank you to First State Bank for sponsoring the carriage and wagon rides the evening of December 2nd.</p>\n
LOCATION:302 N. Dallas Street Ennis\, Tx 75119
UID:e.2608.692
SEQUENCE:3
DTSTAMP:20260425T135032Z
URL:https://business.ennis-chamber.com/events/details/holiday-carriage-and-wagon-rides-12-16-2017-692
END:VEVENT

END:VCALENDAR
