BEGIN:VCALENDAR
VERSION:2.0
PRODID:-//ChamberMaster//Event Calendar 2.0//EN
METHOD:PUBLISH
X-PUBLISHED-TTL:P3D
REFRESH-INTERVAL:P3D
CALSCALE:GREGORIAN
BEGIN:VEVENT
DTSTART:20180822T140000Z
DTEND:20180822T170000Z
X-MICROSOFT-CDO-ALLDAYEVENT:FALSE
SUMMARY:Hiring Event
DESCRIPTION:Associated Material- Maintenance Electrician\, various other positions. BETAFENCE-USA- Receiving Coordinator\, Quality Technician\, Supply Chain Manager & others positions. BBG-Personnel - Various positions. PDQ Temporaries Forklift Operators & other positions. Unique Staff- General Labor positions. Exact Staff- Warehouse Associates.
X-ALT-DESC;FMTTYPE=text/html:Associated Material- Maintenance Electrician\, various other positions. BETAFENCE-USA- Receiving Coordinator\, Quality Technician\, Supply Chain Manager &amp\; others positions. BBG-Personnel - Various positions. PDQ Temporaries Forklift Operators &amp\; other positions. Unique Staff- General Labor positions. Exact Staff- Warehouse Associates.
LOCATION:1712 W 287 Business Waxahachie Tx. 75165
UID:e.2608.2842
SEQUENCE:3
DTSTAMP:20260425T010048Z
URL:https://business.ennis-chamber.com/events/details/hiring-event-2842
END:VEVENT

END:VCALENDAR
