BEGIN:VCALENDAR
VERSION:2.0
PRODID:-//ChamberMaster//Event Calendar 2.0//EN
METHOD:PUBLISH
X-PUBLISHED-TTL:P3D
REFRESH-INTERVAL:P3D
CALSCALE:GREGORIAN
BEGIN:VEVENT
DTSTART:20181031T140000Z
DTEND:20181031T170000Z
X-MICROSOFT-CDO-ALLDAYEVENT:FALSE
SUMMARY:Hiring Event
DESCRIPTION:Employers & Positions: Aramark-Housekeeping BBG- Personnel Services- Production & Maintenance Pactiv- Variety of warehouse positions PDQ Staffing- Forklift & Packers Come prepared to interview.
X-ALT-DESC;FMTTYPE=text/html:Employers &amp\; Positions: Aramark-Housekeeping BBG- Personnel Services- Production &amp\; Maintenance Pactiv- Variety of warehouse positions PDQ Staffing- Forklift &amp\; Packers Come prepared to interview.
LOCATION:1712 W 287 Business Waxahachie TX. 75165
UID:e.2608.2862
SEQUENCE:3
DTSTAMP:20260424T192632Z
URL:https://business.ennis-chamber.com/events/details/hiring-event-10-31-2018-2862
END:VEVENT

END:VCALENDAR
