BEGIN:VCALENDAR
VERSION:2.0
PRODID:-//ChamberMaster//Event Calendar 2.0//EN
METHOD:PUBLISH
X-PUBLISHED-TTL:P3D
REFRESH-INTERVAL:P3D
CALSCALE:GREGORIAN
BEGIN:VEVENT
DTSTART:20181017T140000Z
DTEND:20181017T170000Z
X-MICROSOFT-CDO-ALLDAYEVENT:FALSE
SUMMARY:Hiring Event
DESCRIPTION:Advanced Temporaries General Labor/Warehouse BBG Personnel Production Technician Warehouse Associates Eclipse Staffing Forklift Operator Machinist Saw Operator Exact Staff Seasonal Warehouse Associate Kelly Services General Labor Pactiv Packing Associate Print Operator Operator Assoc. Inline Maintenance Specialist Production Supervisor PDQ Staffing Forklift Operator Packer Production Operator Various Positions
X-ALT-DESC;FMTTYPE=text/html:Advanced Temporaries General Labor/Warehouse BBG Personnel Production Technician Warehouse Associates Eclipse Staffing Forklift Operator Machinist Saw Operator Exact Staff Seasonal Warehouse Associate Kelly Services General Labor Pactiv Packing Associate Print Operator Operator Assoc. Inline Maintenance Specialist Production Supervisor PDQ Staffing Forklift Operator Packer Production Operator Various Positions
LOCATION:1712 W 287 bypass Waxahachie Tx. 75165
UID:e.2608.2859
SEQUENCE:3
DTSTAMP:20260424T211703Z
URL:https://business.ennis-chamber.com/events/details/hiring-event-10-17-2018-2859
END:VEVENT

END:VCALENDAR
