BEGIN:VCALENDAR
VERSION:2.0
PRODID:-//ChamberMaster//Event Calendar 2.0//EN
METHOD:PUBLISH
X-PUBLISHED-TTL:P3D
REFRESH-INTERVAL:P3D
CALSCALE:GREGORIAN
BEGIN:VEVENT
DTSTART:20181003T140000Z
DTEND:20181003T170000Z
X-MICROSOFT-CDO-ALLDAYEVENT:FALSE
SUMMARY:Hiring Event
DESCRIPTION:Multiple employers will be accepting applications and interviewing. BBG- Personnel Services Johnny Carino's Pactiv Palomar Modular Buildings PDQ Staffing
X-ALT-DESC;FMTTYPE=text/html:Multiple employers will be accepting applications and interviewing. BBG- Personnel Services Johnny Carino&#39\;s Pactiv Palomar Modular Buildings PDQ Staffing
LOCATION:1712 W 287 Bypass Waxahachie\, Texas 75165
UID:e.2608.2848
SEQUENCE:3
DTSTAMP:20260424T211554Z
URL:https://business.ennis-chamber.com/events/details/hiring-event-10-03-2018-2848
END:VEVENT

END:VCALENDAR
