BEGIN:VCALENDAR
VERSION:2.0
PRODID:-//ChamberMaster//Event Calendar 2.0//EN
METHOD:PUBLISH
X-PUBLISHED-TTL:P3D
REFRESH-INTERVAL:P3D
CALSCALE:GREGORIAN
BEGIN:VEVENT
DTSTART:20191031T133000Z
DTEND:20191031T220000Z
X-MICROSOFT-CDO-ALLDAYEVENT:FALSE
SUMMARY:Halloween Job Fair at Express Employment Professionals
DESCRIPTION:
X-ALT-DESC;FMTTYPE=text/html:
LOCATION:
UID:e.2608.3216
SEQUENCE:3
DTSTAMP:20260423T210157Z
URL:https://business.ennis-chamber.com/events/details/halloween-job-fair-at-express-employment-professionals-3216
END:VEVENT

END:VCALENDAR
