BEGIN:VCALENDAR
VERSION:2.0
PRODID:-//ChamberMaster//Event Calendar 2.0//EN
METHOD:PUBLISH
X-PUBLISHED-TTL:P3D
REFRESH-INTERVAL:P3D
CALSCALE:GREGORIAN
BEGIN:VEVENT
DTSTART:20171111T150000Z
DTEND:20171111T230000Z
X-MICROSOFT-CDO-ALLDAYEVENT:FALSE
SUMMARY:Gun Show at Sokol
DESCRIPTION:This Ennis gun show is held at Sokol Lodge and hosted by Whipp Farm Productions of Texas. All federal\, state and local firearm ordinances and laws must be obeyed.
X-ALT-DESC;FMTTYPE=text/html:<span>This Ennis gun show is held at Sokol Lodge and hosted by Whipp Farm Productions of Texas. All federal\, state and local firearm ordinances and laws must be obeyed.</span><br />\n<br />\n<br />\n<br />\n<br />\n&nbsp\;
LOCATION:Sokol Hall 2622 TX-34 Ennis\, TX 75119
UID:e.2608.674
SEQUENCE:3
DTSTAMP:20260425T155618Z
URL:https://business.ennis-chamber.com/events/details/gun-show-at-sokol-674
END:VEVENT

END:VCALENDAR
