BEGIN:VCALENDAR
VERSION:2.0
PRODID:-//ChamberMaster//Event Calendar 2.0//EN
METHOD:PUBLISH
X-PUBLISHED-TTL:P3D
REFRESH-INTERVAL:P3D
CALSCALE:GREGORIAN
BEGIN:VEVENT
DTSTART:20191216T160000Z
DTEND:20191216T170000Z
X-MICROSOFT-CDO-ALLDAYEVENT:FALSE
SUMMARY:Groundbreaking for Dallas Luxury RV Resort & Storage
DESCRIPTION:Groundbreaking for Dallas Luxury RV Resort & Storage
X-ALT-DESC;FMTTYPE=text/html:Groundbreaking for Dallas Luxury RV Resort &amp\; Storage
LOCATION:I-45 Service Road to 1200 Dolfie Lane Ennis\, TX 75119
UID:e.2608.3227
SEQUENCE:3
DTSTAMP:20260423T154347Z
URL:https://business.ennis-chamber.com/events/details/groundbreaking-for-dallas-luxury-rv-resort-storage-3227
END:VEVENT

END:VCALENDAR
