BEGIN:VCALENDAR
VERSION:2.0
PRODID:-//ChamberMaster//Event Calendar 2.0//EN
METHOD:PUBLISH
X-PUBLISHED-TTL:P3D
REFRESH-INTERVAL:P3D
CALSCALE:GREGORIAN
BEGIN:VEVENT
DTSTART:20180706T150000Z
DTEND:20180706T154500Z
X-MICROSOFT-CDO-ALLDAYEVENT:FALSE
SUMMARY:Grand Opening & Ribbon Cutting at KFC
DESCRIPTION:
X-ALT-DESC;FMTTYPE=text/html:
LOCATION:100 E. Ennis Ave.
UID:e.2608.2835
SEQUENCE:3
DTSTAMP:20260425T010617Z
URL:https://business.ennis-chamber.com/events/details/grand-opening-ribbon-cutting-at-kfc-2835
END:VEVENT

END:VCALENDAR
