BEGIN:VCALENDAR
VERSION:2.0
PRODID:-//ChamberMaster//Event Calendar 2.0//EN
METHOD:PUBLISH
X-PUBLISHED-TTL:P3D
REFRESH-INTERVAL:P3D
CALSCALE:GREGORIAN
BEGIN:VEVENT
DTSTART:20170626T223000Z
DTEND:20170626T233000Z
X-MICROSOFT-CDO-ALLDAYEVENT:FALSE
SUMMARY:Get the Scoop!
DESCRIPTION:Join us for homemade ice cream and learn about life at our community from our inside sources.
X-ALT-DESC;FMTTYPE=text/html:Join us for homemade ice cream and learn about life at our community from our inside sources.
LOCATION:Brookdale Ennis
UID:e.2608.294
SEQUENCE:3
DTSTAMP:20260426T002640Z
URL:https://business.ennis-chamber.com/events/details/get-the-scoop-294
END:VEVENT

END:VCALENDAR
