BEGIN:VCALENDAR
VERSION:2.0
PRODID:-//ChamberMaster//Event Calendar 2.0//EN
METHOD:PUBLISH
X-PUBLISHED-TTL:P3D
REFRESH-INTERVAL:P3D
CALSCALE:GREGORIAN
BEGIN:VEVENT
DTSTART:20170916T220000Z
DTEND:20170917T010000Z
X-MICROSOFT-CDO-ALLDAYEVENT:FALSE
SUMMARY:Gals Night Out
DESCRIPTION:Gals Night Out! Join us at Sugar Ridge Winery for shopping\, wine\, snacks\, and a lot of fun. We will have many vendors to shop with all in one location: Tejas Twisted Boutique\, Jamberry\, Damsel in Defense\, Simply Southern Sports\, Plexus\, R & K Desings\, Rodan + Fields\, Lone Star Pearl- Vantel Pearls\, Sweet Southern Lace\, Grace and Heart Jewelery\, Pure Romance\, Thirty- One\, and Younique by Brittani.
X-ALT-DESC;FMTTYPE=text/html:Gals Night Out! Join us at Sugar Ridge Winery for shopping\, wine\, snacks\, and a lot of fun. We will have many vendors to shop with all in one location: Tejas Twisted Boutique\, Jamberry\, Damsel in Defense\, Simply Southern Sports\, Plexus\, R &amp\; K Desings\, Rodan + Fields\, Lone Star Pearl- Vantel Pearls\, Sweet Southern Lace\, Grace and Heart Jewelery\, Pure Romance\, Thirty- One\, and Younique by Brittani.
LOCATION:Sugar Ridge Winery 353 Sugar Ridge Road Ennis (Bristol)\, TX 75119
UID:e.2608.566
SEQUENCE:3
DTSTAMP:20260425T192414Z
URL:https://business.ennis-chamber.com/events/details/gals-night-out-566
END:VEVENT

END:VCALENDAR
