BEGIN:VCALENDAR
VERSION:2.0
PRODID:-//ChamberMaster//Event Calendar 2.0//EN
METHOD:PUBLISH
X-PUBLISHED-TTL:P3D
REFRESH-INTERVAL:P3D
CALSCALE:GREGORIAN
BEGIN:VEVENT
DTSTART:20171110T230000Z
DTEND:20171111T050000Z
X-MICROSOFT-CDO-ALLDAYEVENT:FALSE
SUMMARY:Friday Night Party at Sokol
DESCRIPTION:Friday Night Party in the Sokol clubroom featuring the 2nd String Band. \n\nNo cover. Bring a snack if you like!
X-ALT-DESC;FMTTYPE=text/html:<span>Friday Night Party in the Sokol clubroom featuring the 2nd String Band.&nbsp\;<br />\nNo cover. Bring a snack if you like!</span>
LOCATION:Sokol Inc. 2622 TX-34 Ennis\, TX 75119
UID:e.2608.673
SEQUENCE:3
DTSTAMP:20260425T155617Z
URL:https://business.ennis-chamber.com/events/details/friday-night-party-at-sokol-673
END:VEVENT

END:VCALENDAR
