BEGIN:VCALENDAR
VERSION:2.0
PRODID:-//ChamberMaster//Event Calendar 2.0//EN
METHOD:PUBLISH
X-PUBLISHED-TTL:P3D
REFRESH-INTERVAL:P3D
CALSCALE:GREGORIAN
BEGIN:VEVENT
DTSTART:20190617T150000Z
DTEND:20190621T170000Z
X-MICROSOFT-CDO-ALLDAYEVENT:FALSE
SUMMARY:Freedom TRAIL Summer Youth Program at Runnin' Free Ranch
DESCRIPTION:Freedom TRAIL Summer Youth Program at \n\nRunnin' Free Ranch\n\nTwo hour sessions facilitated by a licensed professional counselor and equine specialst.
X-ALT-DESC;FMTTYPE=text/html:Freedom TRAIL Summer Youth Program at&nbsp\;<br />\nRunnin&#39\; Free Ranch<br />\nTwo hour sessions facilitated by a licensed professional counselor and equine specialst.&nbsp\;
LOCATION:Runnin' Free Ranch 1403 Old Bardwell Rd Ennis\, TX 75119
UID:e.2608.2916
SEQUENCE:3
DTSTAMP:20260424T030153Z
URL:https://business.ennis-chamber.com/events/details/freedom-trail-summer-youth-program-at-runnin-free-ranch-2916
END:VEVENT

END:VCALENDAR
