BEGIN:VCALENDAR
VERSION:2.0
PRODID:-//ChamberMaster//Event Calendar 2.0//EN
METHOD:PUBLISH
X-PUBLISHED-TTL:P3D
REFRESH-INTERVAL:P3D
CALSCALE:GREGORIAN
BEGIN:VEVENT
DTSTART:20170612T150000Z
DTEND:20170616T170000Z
X-MICROSOFT-CDO-ALLDAYEVENT:FALSE
SUMMARY:Freedom Trail Summer Youth Program
DESCRIPTION:Experience freedom\, hope and positive life-changing relationships through the facilitation of equine assisted activities. Free of charge for children and teens ages 5-18
X-ALT-DESC;FMTTYPE=text/html:Experience freedom\, hope and positive life-changing relationships through the facilitation of equine assisted activities. Free of charge for children and teens ages 5-18
LOCATION:1403 Old Bardwell Road Ennis\, TX 75119
UID:e.2608.290
SEQUENCE:3
DTSTAMP:20260426T002650Z
URL:https://business.ennis-chamber.com/events/details/freedom-trail-summer-youth-program-290
END:VEVENT

END:VCALENDAR
