BEGIN:VCALENDAR
VERSION:2.0
PRODID:-//ChamberMaster//Event Calendar 2.0//EN
METHOD:PUBLISH
X-PUBLISHED-TTL:P3D
REFRESH-INTERVAL:P3D
CALSCALE:GREGORIAN
BEGIN:VEVENT
DTSTART:20190427T130000Z
DTEND:20190427T170000Z
X-MICROSOFT-CDO-ALLDAYEVENT:FALSE
SUMMARY:Free Shred Day
DESCRIPTION:Free Shred Day
X-ALT-DESC;FMTTYPE=text/html:Free Shred Day<br />\n&nbsp\;
LOCATION:Ennis State Bank Main Lobby Parking Lot 815 W. Ennis Ave Ennis\, TX 75119
UID:e.2608.2906
SEQUENCE:3
DTSTAMP:20260424T075153Z
URL:https://business.ennis-chamber.com/events/details/free-shred-day-2906
END:VEVENT

END:VCALENDAR
