BEGIN:VCALENDAR
VERSION:2.0
PRODID:-//ChamberMaster//Event Calendar 2.0//EN
METHOD:PUBLISH
X-PUBLISHED-TTL:P3D
REFRESH-INTERVAL:P3D
CALSCALE:GREGORIAN
BEGIN:VEVENT
DTSTART:20190601T150000Z
DTEND:20190601T190000Z
X-MICROSOFT-CDO-ALLDAYEVENT:FALSE
SUMMARY:Free Document Shredding
DESCRIPTION:Free Document Shredding\n\nDocuments MUST be in file/banker boxes or small grocery bags.
X-ALT-DESC;FMTTYPE=text/html:Free Document Shredding<br />\nDocuments MUST be in file/banker boxes or small grocery bags.&nbsp\;
LOCATION:Leggett & Platt 4100 South Interstate 45 Ennis\, TX 75119
UID:e.2608.2924
SEQUENCE:3
DTSTAMP:20260424T025720Z
URL:https://business.ennis-chamber.com/events/details/free-document-shredding-2924
END:VEVENT

END:VCALENDAR
