BEGIN:VCALENDAR
VERSION:2.0
PRODID:-//ChamberMaster//Event Calendar 2.0//EN
METHOD:PUBLISH
X-PUBLISHED-TTL:P3D
REFRESH-INTERVAL:P3D
CALSCALE:GREGORIAN
BEGIN:VEVENT
DTSTART:20190614T150000Z
DTEND:20190614T160000Z
X-MICROSOFT-CDO-ALLDAYEVENT:FALSE
SUMMARY:Flagpole Dedication and Open House
DESCRIPTION:Flagpole Dedication and Open House
X-ALT-DESC;FMTTYPE=text/html:Flagpole Dedication and Open House
LOCATION:Ellis County PCT. 2 1400 S. Oak Grove Rd Ennis\, TX 75119
UID:e.2608.2929
SEQUENCE:3
DTSTAMP:20260424T052108Z
URL:https://business.ennis-chamber.com/events/details/flagpole-dedication-and-open-house-2929
END:VEVENT

END:VCALENDAR
