BEGIN:VCALENDAR
VERSION:2.0
PRODID:-//ChamberMaster//Event Calendar 2.0//EN
METHOD:PUBLISH
X-PUBLISHED-TTL:P3D
REFRESH-INTERVAL:P3D
CALSCALE:GREGORIAN
BEGIN:VEVENT
DTSTART:20181103T170000Z
DTEND:20181103T180000Z
X-MICROSOFT-CDO-ALLDAYEVENT:FALSE
SUMMARY:Fitness Court Grand Opening
DESCRIPTION:On behalf of the City of Ennis\, I invite you to join us for the grand opening celebration of the brand new Fitness Court  outdoor gym at Jaycee Park on Saturday\, November 3rd at 12:00pm.\n\n \n\nAs you know\, the Parks and Recreation Department's mission is to enhance our community's public spaces\, encourage activity and promote wellness. They have worked with National Fitness Campaign to install a beautiful outdoor Fitness Court    a place to impress and improve our healthy community for years to come.\n\n \n\nThe Fitness Court Launch Party is a perfect chance to get outdoors and see your colleagues and constituents in the community being fit while having fun. We have invited local businesses and media to join us for this campaign kick off\, and we want to see you there! \n\n \n\nTo learn more about the 2018 National Fitness Campaign\, you can visit their website here: nationalfitnesscampaign.com/video\n\n \n\nHope to see you on Saturday\, November 3rd! RSVP on Facebook here:(link)
X-ALT-DESC;FMTTYPE=text/html:&nbsp\;<span style="font-family:proxima nova\,serif\;">On behalf of the City of Ennis\, I invite you to join us for the grand opening celebration of the brand new Fitness Court&reg\; outdoor gym at Jaycee Park on Saturday\, November 3rd at 12:00pm.</span><br />\n&nbsp\;<br />\n<span style="font-family:proxima nova\,serif\;">As you know\, the Parks and Recreation Department&#39\;s mission is to enhance our community&rsquo\;s public spaces\, encourage activity and promote wellness. They have worked with&nbsp\;National Fitness Campaign to install a beautiful outdoor Fitness Court&reg\; &mdash\; a place to impress and improve our healthy community for years to come.</span><br />\n&nbsp\;<br />\n<span style="font-family:proxima nova\,serif\;">The Fitness Court Launch Party is a perfect chance to get outdoors and see your colleagues and constituents in the community being fit while having fun. We have invited local businesses and media to join us for this campaign kick off\, and we want to see you there!&nbsp\;</span><br />\n&nbsp\;<br />\n<span style="font-family:proxima nova\,serif\;">To learn more about the 2018 National Fitness Campaign\, you can visit their website here:&nbsp\;</span><span style="font-family:arial\,sans-serif\;"><a href="http://nationalfitnesscampaign.com/video"><span style="font-family:proxima nova\,serif\;">nationalfitnesscampaign.com/video</span></a></span><br />\n&nbsp\;<br />\n<span style="font-family:proxima nova\,serif\;">Hope to see you on Saturday\, November 3rd! RSVP on Facebook here:</span><span style="color:#00AEEF\;"><span style="font-family:proxima nova\,serif\;">(link)</span></span><br />\n&nbsp\;<br />\n<br />\n<br />\n&nbsp\;<br />\n&nbsp\;<br />\n<br />\n&nbsp\;
LOCATION:Jaycee Park Ennis\, TX
UID:e.2608.2858
SEQUENCE:3
DTSTAMP:20260424T175838Z
URL:https://business.ennis-chamber.com/events/details/fitness-court-grand-opening-2858
END:VEVENT

END:VCALENDAR
