BEGIN:VCALENDAR
VERSION:2.0
PRODID:-//ChamberMaster//Event Calendar 2.0//EN
METHOD:PUBLISH
X-PUBLISHED-TTL:P3D
REFRESH-INTERVAL:P3D
CALSCALE:GREGORIAN
BEGIN:VEVENT
DTSTART:20190328T221500Z
DTEND:20190329T000000Z
X-MICROSOFT-CDO-ALLDAYEVENT:FALSE
SUMMARY:First Look Boutique Business After Hours
DESCRIPTION:Business After Hours \n\nRefreshments\, door prizes & discounts
X-ALT-DESC;FMTTYPE=text/html:Business After Hours&nbsp\;<br />\nRefreshments\, door prizes &amp\; discounts&nbsp\;
LOCATION:210 West Brown St Ennis\, TX 75119
UID:e.2608.2886
SEQUENCE:3
DTSTAMP:20260424T120650Z
URL:https://business.ennis-chamber.com/events/details/first-look-boutique-business-after-hours-2886
END:VEVENT

END:VCALENDAR
