BEGIN:VCALENDAR
VERSION:2.0
PRODID:-//ChamberMaster//Event Calendar 2.0//EN
METHOD:PUBLISH
X-PUBLISHED-TTL:P3D
REFRESH-INTERVAL:P3D
CALSCALE:GREGORIAN
BEGIN:VEVENT
DTSTART:20170422T120000Z
DTEND:20170422T200000Z
X-MICROSOFT-CDO-ALLDAYEVENT:FALSE
SUMMARY:First Annual Bass Fishing Tournament Fundraiser for Runnin" Free Ranch
DESCRIPTION:Fundraiser Bass Fishing Tournament \n\nPays 5 Places and Biggest Bass\n\nFirst place:  $600  \n\n\n\nFor additional information visit  www.runninfreeranch.org\n\nor contact:  Amy Dojahn  214-399-4270  runninfreeranch@gmail.com or Kathleen Fuller 972-935-3477  katzfuller@yahoo.com
X-ALT-DESC;FMTTYPE=text/html:<span style="font-family:arial\,helvetica\,sans-serif"><strong><span style="font-size:18px">Fundraiser Bass Fishing Tournament&nbsp\;<br />\nPays 5 Places and Biggest Bass<br />\nFirst place:&nbsp\; $600&nbsp\;&nbsp\;</span></strong></span><br />\n<br />\n<span style="font-size:12px"><span style="font-size:18px"><strong><span style="font-family:times new roman\,serif">For additional information visit &nbsp\;</span></strong><a href="http://www.runninfreeranch.org/"><strong><span style="font-family:times new roman\,serif">www.runninfreeranch.org</span></strong></a><br />\n<strong><span style="font-family:times new roman\,serif">or contact:</span></strong><span style="font-family:times new roman\,serif">&nbsp\; <strong><em>Amy Dojahn&nbsp\; 214-399-4270&nbsp\; </em></strong></span><a href="mailto:runninfreeranch@gmail.com"><strong><em><span style="font-family:times new roman\,serif">runninfreeranch@gmail.com</span></em></strong></a><strong><em><span style="font-family:times new roman\,serif"> or Kathleen Fuller 972-935-3477&nbsp\; </span></em></strong><a href="mailto:katzfuller@yahoo.com"><strong><em><span style="font-family:times new roman\,serif">katzfuller@yahoo.com</span></em></strong></a></span></span><br />\n&nbsp\;
LOCATION:Where: Cedar Creek Lake Log Cabin Boat Ramp
UID:e.2608.145
SEQUENCE:3
DTSTAMP:20260426T041738Z
URL:https://business.ennis-chamber.com/events/details/first-annual-bass-fishing-tournament-fundraiser-for-runnin-free-ranch-145
END:VEVENT

END:VCALENDAR
